BEGIN:VCALENDAR
VERSION:2.0
PRODID:-//Great Lakes Retirement Solutions, Inc. - ECPv6.15.20//NONSGML v1.0//EN
CALSCALE:GREGORIAN
METHOD:PUBLISH
X-WR-CALNAME:Great Lakes Retirement Solutions, Inc.
X-ORIGINAL-URL:https://greatlakesretirementsolutions.com
X-WR-CALDESC:Events for Great Lakes Retirement Solutions, Inc.
REFRESH-INTERVAL;VALUE=DURATION:PT1H
X-Robots-Tag:noindex
X-PUBLISHED-TTL:PT1H
BEGIN:VTIMEZONE
TZID:America/Chicago
BEGIN:DAYLIGHT
TZOFFSETFROM:-0600
TZOFFSETTO:-0500
TZNAME:CDT
DTSTART:20250309T080000
END:DAYLIGHT
BEGIN:STANDARD
TZOFFSETFROM:-0500
TZOFFSETTO:-0600
TZNAME:CST
DTSTART:20251102T070000
END:STANDARD
BEGIN:DAYLIGHT
TZOFFSETFROM:-0600
TZOFFSETTO:-0500
TZNAME:CDT
DTSTART:20260308T080000
END:DAYLIGHT
BEGIN:STANDARD
TZOFFSETFROM:-0500
TZOFFSETTO:-0600
TZNAME:CST
DTSTART:20261101T070000
END:STANDARD
BEGIN:DAYLIGHT
TZOFFSETFROM:-0600
TZOFFSETTO:-0500
TZNAME:CDT
DTSTART:20270314T080000
END:DAYLIGHT
BEGIN:STANDARD
TZOFFSETFROM:-0500
TZOFFSETTO:-0600
TZNAME:CST
DTSTART:20271107T070000
END:STANDARD
END:VTIMEZONE
BEGIN:VEVENT
DTSTART;TZID=America/Chicago:20260922T113000
DTEND;TZID=America/Chicago:20260922T130000
DTSTAMP:20260424T140435
CREATED:20260329T003652Z
LAST-MODIFIED:20260329T004228Z
UID:10000012-1790076600-1790082000@greatlakesretirementsolutions.com
SUMMARY:Fall Lunch & Learn
DESCRIPTION:Join us for a Fall Lunch and Learn where we will talk about the “Case Against Active Management” \nand discuss the Secrets to why diversification and passive investment takes precedence for the Big Dogs of investing. \n  \nWe are eager to continue to educate you\, our clients\, and to treat you to a delicious luncheon. \nLocation TBD. \n  \nSign up below to let us know that you are able to attend\, or call (989) 401-2949 to RSVP.
URL:https://greatlakesretirementsolutions.com/event/fall-lunch-learn/2026-09-22/
ORGANIZER;CN="Matthew Starke":MAILTO:matt@greatlakesretirementsolutions.com
END:VEVENT
BEGIN:VEVENT
DTSTART;TZID=America/Chicago:20260923T113000
DTEND;TZID=America/Chicago:20260923T130000
DTSTAMP:20260424T140435
CREATED:20260329T003652Z
LAST-MODIFIED:20260329T004228Z
UID:10000013-1790163000-1790168400@greatlakesretirementsolutions.com
SUMMARY:Fall Lunch & Learn
DESCRIPTION:Join us for a Fall Lunch and Learn where we will talk about the “Case Against Active Management” \nand discuss the Secrets to why diversification and passive investment takes precedence for the Big Dogs of investing. \n  \nWe are eager to continue to educate you\, our clients\, and to treat you to a delicious luncheon. \nLocation TBD. \n  \nSign up below to let us know that you are able to attend\, or call (989) 401-2949 to RSVP.
URL:https://greatlakesretirementsolutions.com/event/fall-lunch-learn/2026-09-23/
ORGANIZER;CN="Matthew Starke":MAILTO:matt@greatlakesretirementsolutions.com
END:VEVENT
END:VCALENDAR